BEGIN:VCALENDAR
VERSION:2.0
PRODID:-//Ballyfermot Chapelizod Partnership - ECPv4.6.2//NONSGML v1.0//EN
CALSCALE:GREGORIAN
METHOD:PUBLISH
X-WR-CALNAME:Ballyfermot Chapelizod Partnership
X-ORIGINAL-URL:http://www.bcpartnership.ie
X-WR-CALDESC:Events for Ballyfermot Chapelizod Partnership
BEGIN:VEVENT
DTSTART;TZID=UTC+0:20171031T113000
DTEND;TZID=UTC+0:20171031T190000
DTSTAMP:20171105T201207
CREATED:20171021T232407Z
LAST-MODIFIED:20171023T091235Z
UID:3300-1509449400-1509476400@www.bcpartnership.ie
SUMMARY:Halloween Festival
DESCRIPTION:Halloween Festival \n11.30 Family Freak Fun Run at Markievicz Park. Registration Required. Run starts at 12.30pm \n11.3o Puppet Show at Ballyfermot Library \n3pm CarnEVIL! Fun and Halloween Games at Familibase in Ballyfermot \n4.30pm Haunted House – Equine Centre\, Cherry Orchard \n6.30pm Fireworks – Cherry Orchard \n
URL:http://www.bcpartnership.ie/event/halloween-festival/
CATEGORIES:Community Festival
END:VEVENT
BEGIN:VEVENT
DTSTART;TZID=UTC+0:20171121T110000
DTEND;TZID=UTC+0:20171121T140000
DTSTAMP:20171105T201207
CREATED:20171021T233056Z
LAST-MODIFIED:20171022T000530Z
UID:3307-1511262000-1511272800@www.bcpartnership.ie
SUMMARY:BCP Employment Services - 20th Anniversary
DESCRIPTION:20th Anniversary Event \nCV Clinic \nSocial Enterprise Award \n
URL:http://www.bcpartnership.ie/event/bcp-employment-services-20th-anniversary/
LOCATION:4 Drumfinn Park\, Dublin 10\, Ireland
CATEGORIES:BCP Employment Services
END:VEVENT
BEGIN:VEVENT
DTSTART;TZID=UTC+0:20171128T093000
DTEND;TZID=UTC+0:20171128T130000
DTSTAMP:20171105T201207
CREATED:20171021T233805Z
LAST-MODIFIED:20171021T233805Z
UID:3311-1511861400-1511874000@www.bcpartnership.ie
SUMMARY:Ballyfermot Chapelizod Homelessness Forum Report Launch
DESCRIPTION:Launch of the Homelessness Report \n
URL:http://www.bcpartnership.ie/event/ballyfermot-chapelizod-homelessness-forum-report-launch/
LOCATION:Ballyfermot Road\, Dublin\, D10 T042\, Ireland
CATEGORIES:BCP Community Development
END:VEVENT
END:VCALENDAR